BEGIN:VCALENDAR
VERSION:2.0
METHOD:PUBLISH
BEGIN:VEVENT
UID:WILD_APRICOT_EVENT_2861749_SESSION_1
DTSTART:20191129T140000Z
DTEND:20191130T140000Z
SUMMARY:QBIC Christmas Event 2019
LOCATION:Howard Smith Wharves\, Brisbane
DESCRIPTION:http://qbic.com.au/event-2861749\n\n\n\n  Come and celebrate the Festive Season in style with the Queensland Bus Industry Council. This year’s annual QBIC Christmas event will be held at HOWARD SMITH WHARVES\n  When: Saturday 30th of November 2019 \n  Time: 6.00pm - 10.00pm\n  Location: Under the Story Bridge - 5 Boundary Street\, Brisbane City\n  Click here to download your invite\n
DTSTAMP:20200302T153158Z
END:VEVENT
END:VCALENDAR
