BEGIN:VCALENDAR
VERSION:2.0
METHOD:PUBLISH
BEGIN:VEVENT
UID:WILD_APRICOT_EVENT_2879569_SESSION_1
DTSTART:20201026T140000Z
DTEND:20201030T140000Z
SUMMARY:2020 BIC National Conference
LOCATION:New Zealand
DESCRIPTION:http://qbic.com.au/event-2879569\n\n\n\n  You have travelled to the Moving People 2020 conference for the bus and coach industry. All bus operators\, manufacturers and suppliers\, policy makers and academics in the Asia Pacific region are invited to join us in Rotorua New Zealand\, October 27 to 30\, 2020.\n  For regular attendees to the National Conference\, please note there is a change to the usual format.\n  The conference commences on Tuesday Oct 27 with Golf Open being held in the morning\, Council/AGM Meetings in the mid-afternoon and of course the traditional Welcome Reception on Tuesday night. The conference will conclude on Friday Oct 30 at 12.30 pm. There will be no social event Friday afternoon or bus auction this year.\nore information  \n\n
DTSTAMP:20200302T153134Z
END:VEVENT
END:VCALENDAR
