BEGIN:VCALENDAR
VERSION:2.0
METHOD:PUBLISH
BEGIN:VEVENT
UID:WILD_APRICOT_EVENT_2975122_SESSION_1
DTSTART:20180911T140000Z
DTEND:20180912T140000Z
SUMMARY:Putting it on Paper - Workshop Brisbane
LOCATION:Rydges\, South Brisbane
DESCRIPTION:http://qbic.com.au/event-2975122\n\n\n\n  All QBIC Members/Supply Partners are invited to attend the -Putting it on Paper - Workshop \n  New Chain of Responsibility amendments commence 1st October 2018 - Are you and your business ready? To assist bus operators we have created this workshop that will help take the angst out of getting your safety systems and processes in order and "putting them on paper".\n  WHO SHOULD ATTEND? Anyone that uses a bus (over 4.5 tonne) to carry passengers\, luggage or freight for their business.\n  WHY ATTEND? Get your risk management and safety procedures out of your head and onto paper. Meet your compliance obligations under Chain of Responsibility (CoR). Effectively manage safety in your transport activities.\nDATE:        Saturday 21st of July 2018\n LOCATION:    Rydges South Bank\, 9 Glenelg St\, South Brisbane  RSVP: Friday 24th August 2018\n
DTSTAMP:20200302T153253Z
END:VEVENT
END:VCALENDAR
