BEGIN:VCALENDAR
VERSION:2.0
METHOD:PUBLISH
BEGIN:VEVENT
UID:WILD_APRICOT_EVENT_3754544_SESSION_1
DTSTART:20200803T140000Z
DTEND:20200804T140000Z
SUMMARY:Members Workshop - Brisbane
LOCATION:East Leagues Club
DESCRIPTION:http://qbic.com.au/event-3754544\n\n  All QBIC Members are invited to attend.\n  Workshop - More information coming soon.  \n  LOCATION: East Leagues Club - 40 Main Ave\, Coorparoo QLD \n  DATE: Tuesday 4th August 2020\n  TIME: 9.00 am\n  RSVP is required by Tuesday 28th of July 2020\n  \n\n  \n\n  \n\n  \n\n  \n\n  \n\n
DTSTAMP:20200302T153044Z
END:VEVENT
END:VCALENDAR
