BEGIN:VCALENDAR
VERSION:2.0
METHOD:PUBLISH
BEGIN:VEVENT
UID:WILD_APRICOT_EVENT_2975131_SESSION_1
DTSTART:20220211T000000Z
DTEND:20220211T000000Z
SUMMARY:Regional Members Forum - Toowoomba
LOCATION:
DESCRIPTION:https://qbic.com.au/event-2975131\n\n\n\n  All QBIC Members and Supply Partners are invited to join the QBIC Regional Members Forum\, Toowoomba Region.\n  This is a great opportunity to get together with other operators from within your Industry and discuss industry issues relevant to your business. QBIC will provide an update on current issues and initiatives in the Queensland bus Industry and Shelley Dale from Shelley Dale OHS Services will present to Members on Workplace Health and Safety Management Systems. \n  LOCATION: City Golf Club Toowoomba 254 South Street\, Toowoomba \n  DATE: Friday 11th of February 2022\n  TIME: 10.00am\n  RSVP with details of attendees and any dietary requirements required by Monday 31st of January 2022\n  View Invitation\n  E: info@qbic.com.au or P: 07 3397 1700\n  ** PLEASE NOTE: Attendance at this event may be impacted by Government Restrictions imposed at the time of the event being held. Attendees may be required to comply with requirements enforced by the venue which may include COVID check in and confirmation of vaccination status in line with requirements set out by the Queensland Government.\n
DTSTAMP:20260424T160925Z
END:VEVENT
END:VCALENDAR
